BEGIN:VCALENDAR
VERSION:2.0
PRODID:-//https://dvnc.com.au///NONSGML kigkonsult.se iCalcreator 2.10.15//
METHOD:PUBLISH
BEGIN:VEVENT
UID:20200227T233048AEST-10549UCpMm@https://dvnc.com.au/
DTSTAMP:20200227T133048Z
DESCRIPTION: https://dvnc.com.au/component/rseventspro/event/99-dvnc-farmer
 s-market-17-oct-2020
DTSTART:20201016T213000Z
DTEND:20201017T020000Z
LOCATION:31B Marcus Rd\, Dingley Village VIC 3172 (31B Marcus Rd\, Dingley 
 Village VIC 3172)
SUMMARY:DVNC Farmers' Market 17 Oct 2020
URL:https://dvnc.com.au/component/rseventspro/event/99-dvnc-farmers-market-
 17-oct-2020
END:VEVENT
END:VCALENDAR
