BEGIN:VCALENDAR
VERSION:2.0
PRODID:-//https://dvnc.com.au///NONSGML kigkonsult.se iCalcreator 2.10.15//
METHOD:PUBLISH
BEGIN:VEVENT
UID:20200227T233009AEST-5621ESviHx@https://dvnc.com.au/
DTSTAMP:20200227T133009Z
DESCRIPTION: https://dvnc.com.au/component/rseventspro/event/97-dvnc-farmer
 s-market-15-aug-2020
DTSTART:20200814T223000Z
DTEND:20200815T030000Z
LOCATION:31B Marcus Rd\, Dingley Village VIC 3172 (31B Marcus Rd\, Dingley 
 Village VIC 3172)
SUMMARY:DVNC Farmers' Market 15 Aug 2020
URL:https://dvnc.com.au/component/rseventspro/event/97-dvnc-farmers-market-
 15-aug-2020
END:VEVENT
END:VCALENDAR
