BEGIN:VCALENDAR
VERSION:2.0
PRODID:-//https://dvnc.com.au///NONSGML kigkonsult.se iCalcreator 2.10.15//
METHOD:PUBLISH
BEGIN:VEVENT
UID:20200227T232930AEST-9354HlVz4w@https://dvnc.com.au/
DTSTAMP:20200227T132930Z
DESCRIPTION: https://dvnc.com.au/component/rseventspro/event/95-dvnc-farmer
 s-market-20-june-2020
DTSTART:20200619T223000Z
DTEND:20200620T030000Z
LOCATION:31B Marcus Rd\, Dingley Village VIC 3172 (31B Marcus Rd\, Dingley 
 Village VIC 3172)
SUMMARY:DVNC Farmers' Market 20 June 2020
URL:https://dvnc.com.au/component/rseventspro/event/95-dvnc-farmers-market-
 20-june-2020
END:VEVENT
END:VCALENDAR
