BEGIN:VCALENDAR
VERSION:2.0
PRODID:-//https://dvnc.com.au///NONSGML kigkonsult.se iCalcreator 2.10.15//
METHOD:PUBLISH
BEGIN:VEVENT
UID:20200227T232913AEST-2726ONJKHw@https://dvnc.com.au/
DTSTAMP:20200227T132913Z
DESCRIPTION: https://dvnc.com.au/component/rseventspro/event/94-dvnc-farmer
 s-market-16-may-2020
DTSTART:20200515T223000Z
DTEND:20200516T030000Z
LOCATION:31B Marcus Rd\, Dingley Village VIC 3172 (31B Marcus Rd\, Dingley 
 Village VIC 3172)
SUMMARY:DVNC Farmers' Market 16 May 2020
URL:https://dvnc.com.au/component/rseventspro/event/94-dvnc-farmers-market-
 16-may-2020
END:VEVENT
END:VCALENDAR
