BEGIN:VCALENDAR
VERSION:2.0
PRODID:-//https://dvnc.com.au///NONSGML kigkonsult.se iCalcreator 2.10.15//
METHOD:PUBLISH
BEGIN:VEVENT
UID:20200227T232853AEST-9713GnnomU@https://dvnc.com.au/
DTSTAMP:20200227T132853Z
DESCRIPTION: https://dvnc.com.au/component/rseventspro/event/93-dvnc-farmer
 s-market-18-april-2020
DTSTART:20200417T223000Z
DTEND:20200418T030000Z
LOCATION:31B Marcus Rd\, Dingley Village VIC 3172 (31B Marcus Rd\, Dingley 
 Village VIC 3172)
SUMMARY:DVNC Farmers' Market 18 April 2020
URL:https://dvnc.com.au/component/rseventspro/event/93-dvnc-farmers-market-
 18-april-2020
END:VEVENT
END:VCALENDAR
