BEGIN:VCALENDAR
VERSION:2.0
PRODID:-//https://dvnc.com.au///NONSGML kigkonsult.se iCalcreator 2.10.15//
METHOD:PUBLISH
BEGIN:VEVENT
UID:20200227T232140AEST-1555twNEX5@https://dvnc.com.au/
DTSTAMP:20200227T132140Z
DESCRIPTION: https://dvnc.com.au/component/rseventspro/event/92-dvnc-farmer
 s-market-21-march-2020
DTSTART:20200320T213000Z
DTEND:20200321T020000Z
LOCATION:31B Marcus Rd\, Dingley Village VIC 3172 (31B Marcus Rd\, Dingley 
 Village VIC 3172)
SUMMARY:DVNC Farmers' Market 21 March 2020
URL:https://dvnc.com.au/component/rseventspro/event/92-dvnc-farmers-market-
 21-march-2020
END:VEVENT
END:VCALENDAR
