BEGIN:VCALENDAR
VERSION:2.0
PRODID:-//https://dvnc.com.au///NONSGML kigkonsult.se iCalcreator 2.10.15//
METHOD:PUBLISH
BEGIN:VEVENT
UID:20200227T232418AEST-9431dVkSuk@https://dvnc.com.au/
DTSTAMP:20200227T132418Z
DESCRIPTION: https://dvnc.com.au/component/rseventspro/event/90-dvnc-farmer
 s-market-18-jan-2020
DTSTART:20200117T213000Z
DTEND:20200118T020000Z
LOCATION:31B Marcus Rd\, Dingley Village VIC 3172 (31B Marcus Rd\, Dingley 
 Village VIC 3172)
SUMMARY:DVNC Farmers' Market 18 Jan 2020
URL:https://dvnc.com.au/component/rseventspro/event/90-dvnc-farmers-market-
 18-jan-2020
END:VEVENT
END:VCALENDAR
