BEGIN:VCALENDAR
VERSION:2.0
PRODID:-//https://dvnc.com.au///NONSGML kigkonsult.se iCalcreator 2.10.15//
METHOD:PUBLISH
BEGIN:VEVENT
UID:20200227T233218AEST-0932S77klD@https://dvnc.com.au/
DTSTAMP:20200227T133218Z
DESCRIPTION: https://dvnc.com.au/component/rseventspro/event/78-dvnc-farmer
 s-market-19-jan-2019
DTSTART:20190118T213000Z
DTEND:20190119T020000Z
LOCATION:31B Marcus Rd\, Dingley Village VIC 3172 (31B Marcus Rd\, Dingley 
 Village VIC 3172)
SUMMARY:DVNC Farmers' Market 19 Jan 2019
URL:https://dvnc.com.au/component/rseventspro/event/78-dvnc-farmers-market-
 19-jan-2019
END:VEVENT
END:VCALENDAR
