BEGIN:VCALENDAR
VERSION:2.0
PRODID:-//https://dvnc.com.au///NONSGML kigkonsult.se iCalcreator 2.10.15//
METHOD:PUBLISH
BEGIN:VEVENT
UID:20200227T233228AEST-7439TZRlvF@https://dvnc.com.au/
DTSTAMP:20200227T133228Z
DESCRIPTION: https://dvnc.com.au/component/rseventspro/event/63-dvnc-farmer
 s-market-dd-mmm-yyyy
DTSTART:20180518T223000Z
DTEND:20180519T030000Z
LOCATION:31B Marcus Rd\, Dingley Village VIC 3172 (31B Marcus Rd\, Dingley 
 Village VIC 3172)
SUMMARY:DVNC Farmers' Market dd MMM yyyy
URL:https://dvnc.com.au/component/rseventspro/event/63-dvnc-farmers-market-
 dd-mmm-yyyy
END:VEVENT
END:VCALENDAR
