BEGIN:VCALENDAR
VERSION:2.0
PRODID:-//https://dvnc.com.au///NONSGML kigkonsult.se iCalcreator 2.10.15//
METHOD:PUBLISH
BEGIN:VEVENT
UID:20200227T233122AEST-32200kPvJt@https://dvnc.com.au/
DTSTAMP:20200227T133122Z
DESCRIPTION: https://dvnc.com.au/component/rseventspro/event/101-dvnc-farme
 rs-market-19-dec-2020
DTSTART:20201218T213000Z
DTEND:20201219T020000Z
LOCATION:31B Marcus Rd\, Dingley Village VIC 3172 (31B Marcus Rd\, Dingley 
 Village VIC 3172)
SUMMARY:DVNC Farmers' Market 19 Dec 2020
URL:https://dvnc.com.au/component/rseventspro/event/101-dvnc-farmers-market
 -19-dec-2020
END:VEVENT
END:VCALENDAR
