BEGIN:VCALENDAR
VERSION:2.0
PRODID:-//https://dvnc.com.au///NONSGML kigkonsult.se iCalcreator 2.10.15//
METHOD:PUBLISH
BEGIN:VEVENT
UID:20200227T233106AEST-0492tpC0Wx@https://dvnc.com.au/
DTSTAMP:20200227T133106Z
DESCRIPTION: https://dvnc.com.au/component/rseventspro/event/100-dvnc-farme
 rs-market-21-nov-2020
DTSTART:20201120T213000Z
DTEND:20201121T020000Z
LOCATION:31B Marcus Rd\, Dingley Village VIC 3172 (31B Marcus Rd\, Dingley 
 Village VIC 3172)
SUMMARY:DVNC Farmers' Market 21 Nov 2020
URL:https://dvnc.com.au/component/rseventspro/event/100-dvnc-farmers-market
 -21-nov-2020
END:VEVENT
END:VCALENDAR
